BEGIN:VCALENDAR
VERSION:2.0
PRODID:-//France-Amériques - ECPv6.15.11//NONSGML v1.0//EN
CALSCALE:GREGORIAN
METHOD:PUBLISH
X-WR-CALNAME:France-Amériques
X-ORIGINAL-URL:https://france-ameriques.org
X-WR-CALDESC:Évènements pour France-Amériques
REFRESH-INTERVAL;VALUE=DURATION:PT1H
X-Robots-Tag:noindex
X-PUBLISHED-TTL:PT1H
BEGIN:VTIMEZONE
TZID:Europe/Paris
BEGIN:DAYLIGHT
TZOFFSETFROM:+0100
TZOFFSETTO:+0200
TZNAME:CEST
DTSTART:20240331T010000
END:DAYLIGHT
BEGIN:STANDARD
TZOFFSETFROM:+0200
TZOFFSETTO:+0100
TZNAME:CET
DTSTART:20241027T010000
END:STANDARD
BEGIN:DAYLIGHT
TZOFFSETFROM:+0100
TZOFFSETTO:+0200
TZNAME:CEST
DTSTART:20250330T010000
END:DAYLIGHT
BEGIN:STANDARD
TZOFFSETFROM:+0200
TZOFFSETTO:+0100
TZNAME:CET
DTSTART:20251026T010000
END:STANDARD
BEGIN:DAYLIGHT
TZOFFSETFROM:+0100
TZOFFSETTO:+0200
TZNAME:CEST
DTSTART:20260329T010000
END:DAYLIGHT
BEGIN:STANDARD
TZOFFSETFROM:+0200
TZOFFSETTO:+0100
TZNAME:CET
DTSTART:20261025T010000
END:STANDARD
END:VTIMEZONE
BEGIN:VEVENT
DTSTART;TZID=Europe/Paris:20250929T080000
DTEND;TZID=Europe/Paris:20250929T120000
DTSTAMP:20260420T100958
CREATED:20251001T114955Z
LAST-MODIFIED:20251001T114955Z
UID:27710-1759132800-1759147200@france-ameriques.org
SUMMARY:Colloque Canada-Europe - Déjeuner
DESCRIPTION:  \nUn déjeuner a réuni les intervenants qui ont participé au colloque. \nPhotos galerie © Vincent Baillais \n\n 
URL:https://france-ameriques.org/event/colloque-canada-europe-dejeuner/
LOCATION:Cercle France-Amériques\, 9-11 Av. Franklin Delano Roosevelt\, Paris\, Ile de France\, 75008\, France
ATTACH;FMTTYPE=image/jpeg:https://france-ameriques.org/wp-content/uploads/2025/07/WhatsApp-Image-2025-08-05-at-16.10.50.jpeg
END:VEVENT
END:VCALENDAR