BEGIN:VCALENDAR
VERSION:2.0
PRODID:-//France-Amériques - ECPv6.15.11//NONSGML v1.0//EN
CALSCALE:GREGORIAN
METHOD:PUBLISH
X-WR-CALNAME:France-Amériques
X-ORIGINAL-URL:https://france-ameriques.org
X-WR-CALDESC:Évènements pour France-Amériques
REFRESH-INTERVAL;VALUE=DURATION:PT1H
X-Robots-Tag:noindex
X-PUBLISHED-TTL:PT1H
BEGIN:VTIMEZONE
TZID:Europe/Paris
BEGIN:DAYLIGHT
TZOFFSETFROM:+0100
TZOFFSETTO:+0200
TZNAME:CEST
DTSTART:20250330T010000
END:DAYLIGHT
BEGIN:STANDARD
TZOFFSETFROM:+0200
TZOFFSETTO:+0100
TZNAME:CET
DTSTART:20251026T010000
END:STANDARD
BEGIN:DAYLIGHT
TZOFFSETFROM:+0100
TZOFFSETTO:+0200
TZNAME:CEST
DTSTART:20260329T010000
END:DAYLIGHT
BEGIN:STANDARD
TZOFFSETFROM:+0200
TZOFFSETTO:+0100
TZNAME:CET
DTSTART:20261025T010000
END:STANDARD
BEGIN:DAYLIGHT
TZOFFSETFROM:+0100
TZOFFSETTO:+0200
TZNAME:CEST
DTSTART:20270328T010000
END:DAYLIGHT
BEGIN:STANDARD
TZOFFSETFROM:+0200
TZOFFSETTO:+0100
TZNAME:CET
DTSTART:20271031T010000
END:STANDARD
END:VTIMEZONE
BEGIN:VEVENT
DTSTART;TZID=Europe/Paris:20260629T190000
DTEND;TZID=Europe/Paris:20260629T220000
DTSTAMP:20260423T233934
CREATED:20260407T093517Z
LAST-MODIFIED:20260423T155435Z
UID:26405-1782759600-1782770400@france-ameriques.org
SUMMARY:Concert Trio : Ingmar Lazar\, piano\, Christoph Seybold\, violon\, et Johannes Raab\, violoncelle
DESCRIPTION:Ouverture des réservations mi-mai \nLe concert\, initié par Maître Emmanuel Nommick\, Vice-Président de France-Amériques\, Délégué à la Musique\, sera suivi d’un verre amical. \nInterprété par  : \nIngmar Lazar\, piano – biographie ICI \nChristoph Seybold\, violon – biographie ICI\nJohannes Raab\, violoncelle – biographie ICI \nProgramme \nSergueï Rachmaninoff (1873-1943)\nTrio élégiaque n°1 en sol mineur \nFranz Schubert (1797-1828)\nNotturno en Mi bémol majeur\, D. 897 \nJohannes Brahms  (1833-1897):\nTrio n°2 en ut majeur op. 87\nI. Allegro\nII. Andante con moto\nIII. Scherzo\nIV. Allegro giocoso \n  \nPlacement libre
URL:https://france-ameriques.org/event/concert-trio-piano-violon-violoncelle/
LOCATION:Cercle France-Amériques\, 9-11 Av. Franklin Delano Roosevelt\, Paris\, Ile de France\, 75008\, France
ATTACH;FMTTYPE=image/png:https://france-ameriques.org/wp-content/uploads/2022/05/Bandeau-page-evenement-2.png
END:VEVENT
END:VCALENDAR