BEGIN:VCALENDAR
VERSION:2.0
PRODID:-//France-Amériques - ECPv6.15.11//NONSGML v1.0//EN
CALSCALE:GREGORIAN
METHOD:PUBLISH
X-ORIGINAL-URL:https://france-ameriques.org
X-WR-CALDESC:Évènements pour France-Amériques
REFRESH-INTERVAL;VALUE=DURATION:PT1H
X-Robots-Tag:noindex
X-PUBLISHED-TTL:PT1H
BEGIN:VTIMEZONE
TZID:Europe/Paris
BEGIN:DAYLIGHT
TZOFFSETFROM:+0100
TZOFFSETTO:+0200
TZNAME:CEST
DTSTART:20250330T010000
END:DAYLIGHT
BEGIN:STANDARD
TZOFFSETFROM:+0200
TZOFFSETTO:+0100
TZNAME:CET
DTSTART:20251026T010000
END:STANDARD
BEGIN:DAYLIGHT
TZOFFSETFROM:+0100
TZOFFSETTO:+0200
TZNAME:CEST
DTSTART:20260329T010000
END:DAYLIGHT
BEGIN:STANDARD
TZOFFSETFROM:+0200
TZOFFSETTO:+0100
TZNAME:CET
DTSTART:20261025T010000
END:STANDARD
BEGIN:DAYLIGHT
TZOFFSETFROM:+0100
TZOFFSETTO:+0200
TZNAME:CEST
DTSTART:20270328T010000
END:DAYLIGHT
BEGIN:STANDARD
TZOFFSETFROM:+0200
TZOFFSETTO:+0100
TZNAME:CET
DTSTART:20271031T010000
END:STANDARD
END:VTIMEZONE
BEGIN:VEVENT
DTSTART;TZID=Europe/Paris:20260506T183000
DTEND;TZID=Europe/Paris:20260506T220000
DTSTAMP:20260424T040852
CREATED:20260331T135941Z
LAST-MODIFIED:20260401T140737Z
UID:31935-1778092200-1778104800@france-ameriques.org
SUMMARY:Au cœur du pouvoir : dans les coulisses de la diplomatie mondiale avec Philippe Étienne
DESCRIPTION:La conférence\, initiée par l’Amiral Xavier Païtard\, Président de la Section Défense et Sécurité internationale de France-Amériques\, sera suivie d’un verre amical. \nIntervenant : \nAmbassadeur Philippe Etienne\nBiographie ICI \nÀ l’occasion de la parution de son livre « Le Sherpa\, mémoires d’un diplomate aux avant-postes de l’Histoire »\, aux Éditions Tallandier\, cette conférence propose une immersion rare dans les arcanes des grands sujets géopolitiques. Ancien ambassadeur à Washington\, conseiller diplomatique et sherpa du président Macron\, ambassadeur à Berlin et représentant permanent à l’UE\, Philippe Étienne livre un témoignage de première main sur les grandes crises contemporaines\, des relations transatlantiques aux recompositions stratégiques mondiales. \nModérateur : Amiral Xavier Païtard \nL’Ambassadeur Philippe Etienne dédicacera son livre à l’issue de la conférence.
URL:https://france-ameriques.org/event/diplomatie-mondiale-philippe-etienne/
LOCATION:Cercle France-Amériques\, 9-11 Av. Franklin Delano Roosevelt\, Paris\, Ile de France\, 75008\, France
ATTACH;FMTTYPE=image/png:https://france-ameriques.org/wp-content/uploads/2025/01/Bandeau-page-evenement-2-31.png
END:VEVENT
END:VCALENDAR