BEGIN:VCALENDAR
VERSION:2.0
PRODID:-//France-Amériques - ECPv6.15.11//NONSGML v1.0//EN
CALSCALE:GREGORIAN
METHOD:PUBLISH
X-ORIGINAL-URL:https://france-ameriques.org
X-WR-CALDESC:Évènements pour France-Amériques
REFRESH-INTERVAL;VALUE=DURATION:PT1H
X-Robots-Tag:noindex
X-PUBLISHED-TTL:PT1H
BEGIN:VTIMEZONE
TZID:Europe/Paris
BEGIN:DAYLIGHT
TZOFFSETFROM:+0100
TZOFFSETTO:+0200
TZNAME:CEST
DTSTART:20240331T010000
END:DAYLIGHT
BEGIN:STANDARD
TZOFFSETFROM:+0200
TZOFFSETTO:+0100
TZNAME:CET
DTSTART:20241027T010000
END:STANDARD
BEGIN:DAYLIGHT
TZOFFSETFROM:+0100
TZOFFSETTO:+0200
TZNAME:CEST
DTSTART:20250330T010000
END:DAYLIGHT
BEGIN:STANDARD
TZOFFSETFROM:+0200
TZOFFSETTO:+0100
TZNAME:CET
DTSTART:20251026T010000
END:STANDARD
BEGIN:DAYLIGHT
TZOFFSETFROM:+0100
TZOFFSETTO:+0200
TZNAME:CEST
DTSTART:20260329T010000
END:DAYLIGHT
BEGIN:STANDARD
TZOFFSETFROM:+0200
TZOFFSETTO:+0100
TZNAME:CET
DTSTART:20261025T010000
END:STANDARD
END:VTIMEZONE
BEGIN:VEVENT
DTSTART;TZID=Europe/Paris:20250929T150000
DTEND;TZID=Europe/Paris:20250929T193000
DTSTAMP:20260423T235925
CREATED:20250724T153755Z
LAST-MODIFIED:20250921T230211Z
UID:26173-1759158000-1759174200@france-ameriques.org
SUMMARY:Après-midi
DESCRIPTION:Cette journée exceptionnelle\, pensée en résonance entre Montréal et Paris\, est placée sous le sceau d’une volonté commune de renforcer les liens entre le Canada\, la France et l’Europe. Ce colloque est co-organisé par Aubin Gonzalez Lapos\, Secrétaire Général Exécutif de France-Amériques et la Professeure Sarah-Myriam Martin-Brûlé\, codirectrice du Réseau d’analyse stratégique (RAS)\, dans le cadre des Journées Transatlantiques. \nL’après-midi de réflexion propose d’analyser les recompositions de l’ordre stratégique euro-atlantique et les perspectives de coopération renforcée entre le Canada et l’Europe. À l’heure où les transitions technologiques\, sécuritaires et écologiques bouleversent les équilibres traditionnels\, les démocraties libérales font face à un double impératif : préserver leur autonomie stratégique tout en consolidant leur résilience collective. Deux panels structureront cet après-midi\, autour de questions clés liées à la souveraineté\, à l’interopérabilité\, à l’innovation et à la sécurité des infrastructures critiques.\n15h – 19h30 | Conférence \nCoorganisée par : Réseau d’analyse stratégique (RAS) et Cercle France-Amériques\nTitre : Canada–Europe : entre convergence stratégique et contraintes systémiques \nObjectif : Analyser les recompositions de l’ordre stratégique euro-atlantique\, les défis industriels\, technologiques et sécuritaires\, et identifier des pistes concrètes de coopération transatlantique. \nProgramme détaillé : \n15h00 – 15h15 |  \nMot d’ouverture par la Professeure Sarah-Myriam Martin-Brûlé codirectrice du Réseau d’analyse stratégique (RAS) et Aubin Gonzalez Lapos\, secrétaire général exécutif de France-Amériques. \n15h15- 15h45  Conférencier d’honneur\, l’honorable Stéphane Dion\, Ambassadeur du Canada en France et à Monaco et Envoyé Spécial auprès de l’Union européenne et de l’Europe  \n15h45 – 17h00 | Panel I– Alliances en mutation\, souverainetés réinventées : repenser la coopération géostratégique Canada–Europe \n\n\nDr. Justin Massie\, Université du Québec à Montréal\, Co-director\, Network for Strategic Analysis\n\n\nDr. Gaëlle Rivard Piché\, Executive Director\, CDA and CDA Institute\n\n\nGeneral Claire Nestier\, ECD Conseil\, former Deputy Military Representative of France to NATO\n\n\nDr. Stephen Saideman\, Carleton University\, Director\, Canadian Defence and Security Network\n\nDr. Pascal Boniface\, géopolitologue et fondateur et directeur de l’Institut de relations internationales et stratégiques (IRIS).\nModérateur: Aubin Gonzalez Lapos\, Secrétaire général exécutif\, France-Amériques\n\n17h30 – 18h45 | Panel II– Transitions sécuritaires et technologiques : refonder le partenariat de défense Canada–Europe \n\n\nGeneral Fabien Kuzniak\, Military Advisor\, Safran\n\n\nLieutenant-General Alexis Rougier\, General Officer\, Space Command\, Military Cabinet of the Minister of the Armed Forces\n\n\nJean-Noël Bonnieu\, Vice President for International Relations\, Thalès Group\n\n\nMGen (ret) Eric Tremblay\, Directeur et responsable du marché de sécurité et défense PWC\n\nModératrice: Professeure Sarah-Myriam Martin-Brûlé\, codirectrice du Réseau d’analyse stratégique (RAS)\n\n18h45 – 19h15 |   Conférencier d’honneur\, l’Amiral Coldefy\, Président de France-Amériques \n19h15 – 19h20 | Mot de clôture\, Madame Hélène Viau\, Ministre Conseillère Ambassade du Canada \n19h30  |  Verre amical \nNos remerciements vont au président de France-Amériques\, l’amiral Alain Coldefy\, pour son appui constant\, ainsi qu’à l’amiral Xavier Paitard\, pour son engagement. Nous saluons le soutien du Réseau d’analyse stratégique\, ainsi que celui de l’ambassade du Canada en France\, avec l’ambassadeur Stéphane Dion et la ministre Hélène Viau. Enfin\, nous remercions chaleureusement et  pour leur contribution essentielle à cette initiative: madame Natascha Hryckow strategic advisor HOAIPS\, et monsieur Romain Bethoux\, Colonel de armée de l’Air et de l’Espace. \nCette journée constitue une étape majeure d’une année de rencontres et de travaux conjoints menés par la Professeure Sarah-Myriam Martin-Brûlé et Aubin Gonzalez Lapos\, secrétaire général de France-Amériques. Ensemble\, ils ont rencontré à Brest les responsables de la dissuasion nucléaire\, à Paris des responsables politiques et militaires de haut niveau\, à Bruxelles des diplomates de l’Union européenne ainsi que des généraux français et canadiens en poste à l’OTAN. Ce travail a été enrichi par un voyage d’études au Canada\, à Montréal\, Saint-Jean\, Ottawa et Québec\, au cours duquel ils ont échangé avec des chercheurs\, intellectuels\, responsables politiques\, diplomates\, ainsi qu’avec la cheffe d’état-major des armées canadiennes.
URL:https://france-ameriques.org/event/colloque-canada-europe-apres-midi/
LOCATION:Cercle France-Amériques\, 9-11 Av. Franklin Delano Roosevelt\, Paris\, Ile de France\, 75008\, France
ATTACH;FMTTYPE=image/png:https://france-ameriques.org/wp-content/uploads/2025/07/03.png
END:VEVENT
BEGIN:VEVENT
DTSTART;TZID=Europe/Paris:20250929T080000
DTEND;TZID=Europe/Paris:20250929T120000
DTSTAMP:20260423T235925
CREATED:20250724T153637Z
LAST-MODIFIED:20250926T152550Z
UID:26168-1759132800-1759147200@france-ameriques.org
SUMMARY:Matinée
DESCRIPTION:  \nUne matinée de réflexion stratégique sur la coopération Sud–Sud et la résilience des démocraties francophones \nDans le cadre des Journées transatlantiques\, la matinée du 29 septembre 2025 au Cercle France-Amériques à Paris mettra en lumière deux enjeux essentiels pour le renouvellement des cadres de coopération internationale et de gouvernance : \n\nd’une part\, les dynamiques endogènes de coopération Sud–Sud\, portées par des acteurs de la majorité globale\, seront au cœur d’une table ronde organisée par Aspen France et le Centre FrancoPaix (Chaire Raoul-Dandurand\, UQAM). Cette session visera à valoriser ces initiatives comme leviers de résilience\, de justice sociale et de transformation institutionnelle\, tout en interrogeant la place des modèles locaux dans la redéfinition des partenariats internationaux.\nd’autre part\, un atelier coorganisé par le Centre FrancoPaix et le Cercle France-Amériques portera sur le thème :\n« Démocraties sous influence ? Ingérences électorales\, désinformation et résilience citoyenne dans l’espace francophone ».\nIl s’agira d’examiner les menaces hybrides\, les enjeux de souveraineté informationnelle\, ainsi que le rôle stratégique des diasporas francophones et de la coopération institutionnelle dans la réponse à ces défis.\n\nProgramme : \n8h00 – 08h30 | Accueil petit-déjeuner \n8h30 – 45 | Mot d’Accueil\, la Professeure Sarah-Myriam Martin-Brûlé\, codirectrice du Réseau d’analyse stratégique (RAS) et Aubin Gonzalez Lapos\, Secrétaire général exécutif de France-Amériques. \n8h45 – 9h00 | Allocution de l’invité spécial\, Togbé Agbessi Alangue\, Ministre conseiller à l’ambassade du Togo en Belgique\n9h00 – 09h45 | Table-Ronde\nCoorganisé avec Aspen France et le Centre FrancoPaix (Chaire Raoul-Dandurand\, UQAM)\nThème : Vers une coopération Sud–Sud renouvelée : Cohésion sociale\, gouvernance mondiale et partenariats endogènes \nObjectif : Cette table ronde vise à mettre en lumière les initiatives endogènes de coopération Sud-Sud portées par des acteurs de la majorité globale\, en tant que leviers de transformation sociale\, économique et institutionnelle. Il propose un espace de dialogue stratégique pour repenser les modèles de gouvernance mondiale à partir des pratiques locales\, en articulant résilience\, co-développement et partenariats plus équitables. \nIntervenant·es : \n\nPrésentation: Aubin Gonzalez Lapos\, Secrétaire général exécutif\, France-Amériques\nCyprien Fabre\, Head of Unit\, Development Peace and Stability\, OECD\n\nNatascha Hryckow\, Horn of Africa Institute of Peace and Security\, Strategic Adviser\n\nDr. Kako Nubukpo\, économiste\, directeur de l’observatoire afrique subsaharienne\, institut Jean Jaurès\nJean-Christophe Bas\, Vice-Président Aspen France\, Journaliste\, Auteur et Haut Fonctionnaire\nModérateur: Aubin Gonzalez Lapos\, Secrétaire général exécutif\, France-Amériques\n\n__________________________________ \n10h – 12h00 | Atelier\nCoorganisé avec le Centre FrancoPaix\nTitre : Démocraties sous influence ? Ingérences électorales\, désinformation et résilience citoyenne dans l’espace francophone \nObjectif : Explorer les menaces hybrides et les enjeux de souveraineté informationnelle dans l’espace francophone\, en mettant l’accent sur le rôle des diasporas\, la coopération institutionnelle et la sensibilisation des citoyen·nes. \n\nJose Maria Aranaz\, international senior consultant\,  NOREF Norwegian Centre for Conflict Resolution\nDr. Niagalé Bagayoko\, Présidente de l’African Security Sector Network (ASSN)\nDr. Philippe Baumard \, professeur des universités au CNAM de Paris\, Directeur du laboratoire Sécurité Defense Renseignement SDR3C (CNAM)\nDr. Paul Charon \, directeur du domaine Influence et Renseignement de l’IRSEM\nBertrand Levant\, Direction des affaires politiques et de la gouvernance démocratique (DAPG)\, OIF\nModératrice: Professeure Sarah-Myriam Martin-Brûlé\, codirectrice du Centre FrancoPaix\n\n12h00 – 12h10 | Mot de clôture\, Amiral Xavier Païtard\, Président section défense et sécurité internationale France-Amériques. \nCette matinée s’inscrit dans une démarche de dialogue stratégique entre Montréal et Paris\, portée par Aubin Gonzalez Lapos\, Secrétaire général exécutif de France-Amériques\, et la Professeure Sarah-Myriam Martin-Brûlé\, codirectrice du Réseau d’analyse stratégique (RAS). \nNous exprimons notre profonde gratitude au président de France-Amériques\, l’Amiral Alain Coldefy\, pour son appui constant\, ainsi qu’à l’Amiral Xavier Païtard pour son engagement soutenu. Nos remerciements vont également au Réseau d’analyse stratégique\, à l’Ambassade du Canada en France\, à Son Excellence Stéphane Dion et à la ministre Hélène Viau\, pour leur précieux soutien. \nEnfin\, nous saluons les contributions essentielles de Madame Natascha Hryckow\, Strategic Advisor auprès du HOAIPS\, et de Monsieur Romain Bethoux\, Colonel de l’Armée de l’Air et de l’Espace. \n  \nL’inscription à la matinée donne accès\n– à l’accueil petit-déjeuner\n– à la table ronde Vers une coopération Sud–Sud renouvelée : Cohésion sociale\, gouvernance mondiale et partenariats endogènes\,\n– à l’atelier Démocraties sous influence ? Ingérences électorales\, désinformation et résilience citoyenne dans l’espace francophone \nEGALEMENT PARTICIPER A L’APRES-MIDI + VERRE AMICAL ICI
URL:https://france-ameriques.org/event/colloque-canada-europe-matinee/
LOCATION:Cercle France-Amériques\, 9-11 Av. Franklin Delano Roosevelt\, Paris\, Ile de France\, 75008\, France
ATTACH;FMTTYPE=image/jpeg:https://france-ameriques.org/wp-content/uploads/2025/07/WhatsApp-Image-2025-08-05-at-15.52.07.jpeg
END:VEVENT
END:VCALENDAR