BEGIN:VCALENDAR
VERSION:2.0
PRODID:-//France-Amériques - ECPv6.15.11//NONSGML v1.0//EN
CALSCALE:GREGORIAN
METHOD:PUBLISH
X-WR-CALNAME:France-Amériques
X-ORIGINAL-URL:https://france-ameriques.org
X-WR-CALDESC:Évènements pour France-Amériques
REFRESH-INTERVAL;VALUE=DURATION:PT1H
X-Robots-Tag:noindex
X-PUBLISHED-TTL:PT1H
BEGIN:VTIMEZONE
TZID:Europe/Paris
BEGIN:DAYLIGHT
TZOFFSETFROM:+0100
TZOFFSETTO:+0200
TZNAME:CEST
DTSTART:20250330T010000
END:DAYLIGHT
BEGIN:STANDARD
TZOFFSETFROM:+0200
TZOFFSETTO:+0100
TZNAME:CET
DTSTART:20251026T010000
END:STANDARD
BEGIN:DAYLIGHT
TZOFFSETFROM:+0100
TZOFFSETTO:+0200
TZNAME:CEST
DTSTART:20260329T010000
END:DAYLIGHT
BEGIN:STANDARD
TZOFFSETFROM:+0200
TZOFFSETTO:+0100
TZNAME:CET
DTSTART:20261025T010000
END:STANDARD
BEGIN:DAYLIGHT
TZOFFSETFROM:+0100
TZOFFSETTO:+0200
TZNAME:CEST
DTSTART:20270328T010000
END:DAYLIGHT
BEGIN:STANDARD
TZOFFSETFROM:+0200
TZOFFSETTO:+0100
TZNAME:CET
DTSTART:20271031T010000
END:STANDARD
END:VTIMEZONE
BEGIN:VEVENT
DTSTART;TZID=Europe/Paris:20260427T123000
DTEND;TZID=Europe/Paris:20260427T143000
DTSTAMP:20260423T214910
CREATED:20260202T135544Z
LAST-MODIFIED:20260421T124239Z
UID:30687-1777293000-1777300200@france-ameriques.org
SUMMARY:Déjeuner-débat  : Les enjeux de santé mondiale dans un monde en reconfiguration
DESCRIPTION:Déjeuner-Débat organisé par Audrène Eloit-Johnson et le Professeur Antoine Souchaud\, administrateurs de France-Amériques. \nLe monde actuel\, encore secoué par la récente crise de la COVID-19\, connaît des reconfigurations politiques et financières majeures qui transforment le financement du développement. Il est aussi traversé par une remise en cause par une partie croissante de la population mondiale et un nombre d’hommes politiques de la science et des politiques de santé\, notamment autour des vaccins. De façon flagrante\, alors que les Etats-Unis modifient radicalement leur politique de recherche et de soutien au développement international et au multilatéralisme\, l’administration Trump II a fermé USAID\, coupé les financements des National Institutes of Health (NIH)\, nommé à la tête du Department of Health un vaccino-sceptique et s’est retirée de l’Organisation Mondiale pour la Santé (OMS). Quel impact ce changement de politiques et la nouvelle configuration des grandes forces géopolitiques\, qui se traduit par une baisse des financements pour le développement et la recherche en santé mondiale\, notamment pour les maladies infectieuses peut-on prévoir ? \nConférencier : \nYazdan Yazdanpanah est directeur de l’Agence des maladies infectieuses émergentes de l’ANRS\, directeur de l’Institut Aviesan/Inserm I3M\, chef du service des maladies infectieuses à l’hôpital Bichat et professeur de maladies infectieuses à l’université Paris Cité. \nIl est titulaire d’un Master of Science en épidémiologie de la Harvard School of Public Health et d’un doctorat en santé publique de l’École de santé publique de Bordeaux. Ses recherches portent sur l’épidémiologie clinique du VIH\, l’hépatite virale\, les maladies infectieuses émergentes et la pharmaco-économie des agents antimicrobiens. \nModérateur : \nProfesseur Antoine Souchaud\, administrateur de France-Amériques \n  \nNombre de places limité
URL:https://france-ameriques.org/event/dejeuner-debat-les-enjeux-de-sante-mondiale/
LOCATION:Cercle France-Amériques\, 9-11 Av. Franklin Delano Roosevelt\, Paris\, Ile de France\, 75008\, France
ATTACH;FMTTYPE=image/png:https://france-ameriques.org/wp-content/uploads/2025/01/Bandeau-page-evenement-2-31.png
END:VEVENT
BEGIN:VEVENT
DTSTART;TZID=Europe/Paris:20260504T180000
DTEND;TZID=Europe/Paris:20260504T220000
DTSTAMP:20260423T214910
CREATED:20260320T090152Z
LAST-MODIFIED:20260422T090740Z
UID:32022-1777917600-1777932000@france-ameriques.org
SUMMARY:Gilles Kepel : Au cœur des nouveaux conflits mondiaux: Alliances\, influence et intérêts stratégiques dans le triangle USA - Europe - Moyen-Orient
DESCRIPTION:Conférence organisée par le Cercle France-Amériques en partenariat avec le Club des Juristes  et l’AFDD (Association Française des Docteurs en Droit) \nAujourd’hui\, les relations entre les États-Unis\, l’Europe et le Moyen-Orient sont au cœur des nouvelles rivalités mondiales. Les États-Unis restent très influents\, notamment grâce à leur présence militaire et leurs alliances dans la région. De son côté\, l’Europe essaie de jouer un rôle plus autonome\, même si elle reste liée aux Américains. Le Moyen-Orient est un espace stratégique majeur\, surtout en raison de ses ressources énergétiques comme le pétrole et le gaz. Dans ce contexte\, les alliances évoluent et certains pays se rapprochent\, parfois de manière surprenante. Cependant\, la région reste marquée par de nombreux conflits et tensions. Les grandes puissances cherchent donc à y défendre leurs intérêts économiques et politiques. On observe aussi une concurrence d’influence\, à travers la diplomatie\, le commerce ou encore les interventions militaires. De plus\, de nouveaux acteurs comme la Chine ou la Russie viennent compliquer la situation. Ainsi\, ce triangle montre bien les transformations actuelles des rapports de puissance dans le monde. \nInvité : \nM. Gilles Kepel\, spécialiste du Moyen-Orient \nModérateur : \nM. Jean-Luc Fournier\, Président (h) Cercle France-Amériques \nLa conférence sera suivie d’un verre amical. \nÀ l’issue de la conférence\, Gilles Kepel dédicacera son ouvrage « Antiterrorisme – La traque des djihadistes »\, co-écrit avec Jean-François Ricard (Plon – octobre 2025). \nIntervention de Gilles Kepel le 20 avril sur TV5 Monde.
URL:https://france-ameriques.org/event/g-kepel/
LOCATION:Cercle France-Amériques\, 9-11 Av. Franklin Delano Roosevelt\, Paris\, Ile de France\, 75008\, France
ATTACH;FMTTYPE=image/png:https://france-ameriques.org/wp-content/uploads/2025/01/Bandeau-page-evenement-2-31.png
END:VEVENT
BEGIN:VEVENT
DTSTART;TZID=Europe/Paris:20260506T183000
DTEND;TZID=Europe/Paris:20260506T220000
DTSTAMP:20260423T214910
CREATED:20260331T135941Z
LAST-MODIFIED:20260401T140737Z
UID:31935-1778092200-1778104800@france-ameriques.org
SUMMARY:Au cœur du pouvoir : dans les coulisses de la diplomatie mondiale avec Philippe Étienne
DESCRIPTION:La conférence\, initiée par l’Amiral Xavier Païtard\, Président de la Section Défense et Sécurité internationale de France-Amériques\, sera suivie d’un verre amical. \nIntervenant : \nAmbassadeur Philippe Etienne\nBiographie ICI \nÀ l’occasion de la parution de son livre « Le Sherpa\, mémoires d’un diplomate aux avant-postes de l’Histoire »\, aux Éditions Tallandier\, cette conférence propose une immersion rare dans les arcanes des grands sujets géopolitiques. Ancien ambassadeur à Washington\, conseiller diplomatique et sherpa du président Macron\, ambassadeur à Berlin et représentant permanent à l’UE\, Philippe Étienne livre un témoignage de première main sur les grandes crises contemporaines\, des relations transatlantiques aux recompositions stratégiques mondiales. \nModérateur : Amiral Xavier Païtard \nL’Ambassadeur Philippe Etienne dédicacera son livre à l’issue de la conférence.
URL:https://france-ameriques.org/event/diplomatie-mondiale-philippe-etienne/
LOCATION:Cercle France-Amériques\, 9-11 Av. Franklin Delano Roosevelt\, Paris\, Ile de France\, 75008\, France
ATTACH;FMTTYPE=image/png:https://france-ameriques.org/wp-content/uploads/2025/01/Bandeau-page-evenement-2-31.png
END:VEVENT
BEGIN:VEVENT
DTSTART;TZID=Europe/Paris:20260511T143000
DTEND;TZID=Europe/Paris:20260511T183000
DTSTAMP:20260423T214910
CREATED:20260129T134828Z
LAST-MODIFIED:20260423T074529Z
UID:31465-1778509800-1778524200@france-ameriques.org
SUMMARY:Colloque : L’Arctique entre refonte des alliances et consolidation des souverainetés
DESCRIPTION:Colloque :\nL’Arctique entre refonte des alliances et consolidation des souverainetés\n \n\n\n\n\n\n\n\n\nCette journée exceptionnelle\, pensée en résonance entre Montréal et Paris dans une volonté commune de renforcer les liens entre le Canada et la France\, est l’occasion d’accueillir Madame Nathalie G. Drouin\, nouvelle Ambassadrice du Canada en France. Ce colloque est coorganisé par Aubin Gonzalez Lapos\, secrétaire général exécutif de France-Amériques\, et Dr. Sarah-Myriam Martin-Brûlé\, Directrice du Centre FrancoPaix. \n\n\n\n\n\n\n\n\nObjectif : Offrir un espace de réflexion stratégique de haut niveau sur l’Arctique\, en croisant les regards européens et nord‑américains autour des enjeux de souveraineté\, des menaces hybrides et des défis climatiques\, afin d’identifier des pistes concrètes de refonte des alliances\, de renforcement des capacités de défense et de protection des infrastructures critiques\, tout en intégrant les partenariats autochtones et les cadres de coopération multilatérale. \nPROGRAMME: \n14h30 – 14h40 | Mot d’accueil\, Dr. Sarah-Myriam Martin-Brûlé\, directrice du Centre FrancoPaix\, et Aubin Gonzalez Lapos\, Secrétaire général exécutif de France-Amériques. \n14h40 – 15h00 | CONFÉRENCIÈRE D’HONNEUR : Son Excellence Nathalie G. Drouin\, Ambassadrice du Canada en France  \n15h00 – 16h20 | Le Grand Nord raconté : un explorateur face à un Arctique en mutation \nCette intervention vise à découvrir le regard d’un explorateur engagé sur l’Arctique pour mieux comprendre les transformations rapides du Grand Nord face au changement climatique\, aux enjeux de souveraineté et aux nouvelles dynamiques géopolitiques. À travers sa présentation\, Jean-Louis Étienne partagera son expérience de terrain et sa lecture des mutations en cours\, avant une séance de questions-réponses avec le public. \nDr. Jean-Louis Étienne\, Médecin\, Explorateur\, Ecrivain. Ambassadeur des Pôles et de l’Océan auprès de l’UICN (Union internationale pour la conservation de la nature en France). \nModération: Dr. Sarah-Myriam Martin-Brûlé\, directrice du Centre FrancoPaix\, et Aubin Gonzalez Lapos\, Secrétaire général exécutif de France-Amériques. \n\n16h20 – 16h40 | Pause café \n\n16h45 – 17h30 | Panel I – Capacités\, innovation et sécurité pan-domaine dans l’Arctique \nUne discussion réunissant décideurs politiques\, chefs militaires et représentants industriels pour examiner les réponses opérationnelles et technologiques aux défis de sécurité arctique dans un environnement pan-domaine\, couvrant sous-marin\, terrestre\, aérien\, haute altitude et espace\, incluant le rôle croissant des capacités satellitaires en surveillance\, communications et sécurité arctique. \nIntervenant·es : \nGénéral de corps aérien Dominique Tardif\, Major général de l’armée de l’air et de l’espace \nSon Excellence Robert Sinclair\, ambassadeur du Canada auprès du Royaume de Suède et ancien haut représentant du Canada pour l’Arctique \nDr. Gaëlle Rivard Piché\, Directrice exécutive de la CDA Institute et Conference of Defence Associations \nModération: Aubin Gonzalez Lapos\, Secrétaire général exécutif de France-Amériques \n\n17h45 – 18h30 | Panel II – Souveraineté\, menaces hybrides et désinformation dans l’Arctique \nUne discussion d’experts centrée sur les défis de souveraineté\, les formes émergentes de compétition stratégique et les menaces hybrides façonnant l’environnement de sécurité arctique\, avec une attention particulière aux implications pour la sécurité européenne\, canadienne et transatlantique/transarctique globale. \nIntervenants : \nDr. Jean-Christophe Boucher\, Professeur associé à l’Université de Calgary \nMikaa Blugeon‑Mered\, chercheur senior enjeux arctiques\, géopolitiques et marchés de l’hydrogène à l’Université du Québec à Trois-Rivières ; chargé d’enseignement Pôles-Énergies-Climat à l’École de Guerre et HEC Paris \nDr. Florian Krampe\, directeur d’études Peace and Development\, et directeur du programme Climate Change And Risk au SIPRI (Stockholm International Peace Research Institute). \nAmiral Olivier Lebas\, Conseiller Défense chez Airbus\, Ancien préfet maritime à la Marine Nationale \nGénéral Carol Potvin\, Directeur Général adjoint – Politiques de défense continentale du Canada \nModération: Dr. Sarah-Myriam Martin-Brûlé\, directrice du Centre FrancoPaix \n\n18h30 – 18h40 | Mot de clôture \n\n18h45 |  Verre amical \nNos remerciements vont au président de France-Amériques\, l’Amiral Alain Coldefy\, à l’équipe de l’Ambassade du Canada en France ainsi qu’au Centre FrancoPaix. Nous saluons également le soutien du Réseau d’analyse stratégique. Enfin\, nous remercions chaleureusement et pour sa contribution essentielle à cette initiative : le colonel Romain Bethoux\, de l’armée de l’Air et de l’Espace. \nCe colloque a été construit en écho avec le colloque transatlantique qui s’est déroulé à France-Amériques le 29 septembre 2025\, et le colloque transpacifique le 21 janvier 2026.
URL:https://france-ameriques.org/event/colloque-transarctique/
LOCATION:Cercle France-Amériques\, 9-11 Av. Franklin Delano Roosevelt\, Paris\, Ile de France\, 75008\, France
ATTACH;FMTTYPE=image/png:https://france-ameriques.org/wp-content/uploads/2026/01/HEADER.png
END:VEVENT
BEGIN:VEVENT
DTSTART;TZID=Europe/Paris:20260518T190000
DTEND;TZID=Europe/Paris:20260518T220000
DTSTAMP:20260423T214910
CREATED:20260326T144342Z
LAST-MODIFIED:20260326T144446Z
UID:26402-1779130800-1779141600@france-ameriques.org
SUMMARY:Concert de Jean-Samuel Bez\, violon\, et Louise Akili\, piano
DESCRIPTION:Le concert\, initié par Maître Emmanuel Nommick\, Vice-Président de France-Amériques\, Délégué à la Musique\, sera suivi d’un verre amical. \nBiographie du violoniste Jean-Samuel Bez\nBiographie de la pianiste Louise Akili \nProgramme \nLudwig van Beethoven (1770–1827)\nSonate n°5 « Printemps » en fa majeur\, op. 24 \nMaurice Ravel (1875–1937)\nSonate posthume pour violon et piano \nMarcelle Soulage (1894–1970)\nSonate pour violon et piano\, op. 21 \n  \nPlacement libre \n  \n 
URL:https://france-ameriques.org/event/concert-violon-piano/
LOCATION:Cercle France-Amériques\, 9-11 Av. Franklin Delano Roosevelt\, Paris\, Ile de France\, 75008\, France
ATTACH;FMTTYPE=image/png:https://france-ameriques.org/wp-content/uploads/2022/05/Bandeau-page-evenement-2.png
END:VEVENT
BEGIN:VEVENT
DTSTART;TZID=Europe/Paris:20260601T183000
DTEND;TZID=Europe/Paris:20260601T220000
DTSTAMP:20260423T214910
CREATED:20260421T122246Z
LAST-MODIFIED:20260423T110334Z
UID:31813-1780338600-1780351200@france-ameriques.org
SUMMARY:Bicentenaire de l'amitié France-Mexique : Perspectives combinées
DESCRIPTION:Dans le cadre des célébrations des 200 ans d’amitié entre la France et le Mexique\, l’Amiral Alain Coldefy\, Président de France-Amériques\, est heureux d’accueillir S.Exc. Mme Bianca Jiménez Cisneros\, Ambassadrice du Mexique en France\, à l’occasion de la soirée organisée par France-Amériques en partenariat avec l’Association des Amis du Mexique en France (AAMF). \nDes experts des relations bilatérales évoqueront\, en paroles et en images\, quelques épisodes des relations entre la France et le Mexique depuis 1826. \nPROGRAMME \n18h30 – 20h00 \nAvant 1826 : « La petite France » de Miguel Hidalgo\, par José Alfonso Suárez Del Real\, conseiller à la Présidence de la République du Mexique. \nDe 1833 à nos jours : Continuons à tisser des liens entre la Haute-Saône\, Champlitte\, Jicaltepec et San Rafael\, par Delphine Lannaud (cheffe des Musées départementaux) et Aurélie Dumain (ethnologue). \nAnnées 1860 : Benito Juárez\, une idéologie politique inspirée par la France\, par Rosario Acosta et Éric Taladoire\, historiens. \n1924 : Achat de la Résidence du Mexique à Paris et commande des tableaux d’Ángel Zárraga\, par S. Exc. Mme Blanca Jimenez C.\, ambassadrice du Mexique en France. \nÀ partir de 1930 : Recherches françaises au Mexique et sur le Mexique\, par Dominique Michelet\, membre de l’Institut. \nÀ partir de 1945 : Octavio Paz et la France\, par Paul-Henri Giraud\, professeur à l’université de Lille. \n1964 : La Residencia de Francia en México et la visite du Général de Gaulle au Mexique\, par S. Exc. Mme Delphine Borione\, ambassadrice de France au Mexique. \n2026 : Trois Mexique de J. M. G. Le Clézio\, par David Noria\, poète et doctorant à l’université de Sorbonne Nouvelle. \n20h00 \nLa conférence sera suivie d’un verre amical/Margarita de honor con bocadillos. \n 
URL:https://france-ameriques.org/event/bicentenaire-france-mexique/
LOCATION:Cercle France-Amériques\, 9-11 Av. Franklin Delano Roosevelt\, Paris\, Ile de France\, 75008\, France
ATTACH;FMTTYPE=image/png:https://france-ameriques.org/wp-content/uploads/2025/01/Bandeau-page-evenement-2-31.png
END:VEVENT
BEGIN:VEVENT
DTSTART;TZID=Europe/Paris:20260615T183000
DTEND;TZID=Europe/Paris:20260615T220000
DTSTAMP:20260423T214910
CREATED:20260414T084135Z
LAST-MODIFIED:20260414T084711Z
UID:28527-1781548200-1781560800@france-ameriques.org
SUMMARY:I.A. et Musique : La 10ème symphonie de Beethoven
DESCRIPTION:Ouverture des réservations début mai \nLa conférence\, initiée par Monsieur Yvon Raak\, administrateur de France-Amériques\, Président de la Section Culture\,  et Me Emmanuel Nommick\, Vice-Président\, Délégué à la Musique\, sera suivie d’un verre amical. \nGénérateurs de musique basés sur l’I.A.\, recommandations personnalisées sur les plateformes de streaming\, analyse prédictive des tendances… L’intelligence artificielle s’immisce dans tous les aspects de la création\, de la production et de la distribution musicale\, avec de nombreuses questions sur l’avenir de la créativité artistique et le rôle des musiciens. \nLa conférence se focalisera sur l’utilisation de l’IA dans la création musicale avec une comparaison France/USA. \nAujourd’hui\, les logiciels d’I.A. générative peuvent analyser des milliers de morceaux\, et en décomposer les sons pour extraire les éléments constitutifs : mélodies\, harmonies\, rythmes. Avec cette analyse poussée\, l’IA est capable de proposer des compositions nouvelles\, dans une multitude de styles musicaux à partir d’une requête textuelle .\nMais toujours à partir des musiques ingurgitées donc sans véritable originalité. \nDemain\, il est possible d’imaginer des algorithmes de création musicale capables de suggérer des accords\, des progressions harmoniques ou des arrangements en temps réel pendant le processus de composition\, et donc de générer des compositions de plus en plus sophistiquées\, suscitant des émotions précises chez l’auditeur\, comme la joie\, la tristesse\, la colère ou encore la sérénité. Nous n’en sommes pas là. \nAlors\, oui à la 10ème symphonie de Beethoven par I.A.\, composée à partir des neuf originales\, ou à la fin des Goldwin Follies selon George Gershwin\, mais quid d’un nouveau Beethoven ou d’un nouveau Gershwin? \nAu delà de la conférence\, les intervenants feront des démonstrations « live » des possibilités actuelles de l’I.A.\, en interaction avec le public. \nIntervenants : \nPierre Saint-Germier est chargé de recherches au CNRS en philosophie\, affecté à l’unité Sciences et Technologies de la Musique et du Son de l’IRCAM. \nJean-Louis Giavitto Directeur de recherches au CNRS\, Équipe Représentations musicales IRCAM
URL:https://france-ameriques.org/event/ia-et-musique/
LOCATION:Cercle France-Amériques\, 9-11 Av. Franklin Delano Roosevelt\, Paris\, Ile de France\, 75008\, France
ATTACH;FMTTYPE=image/png:https://france-ameriques.org/wp-content/uploads/2025/01/Bandeau-page-evenement-2-31.png
END:VEVENT
BEGIN:VEVENT
DTSTART;TZID=Europe/Paris:20260629T190000
DTEND;TZID=Europe/Paris:20260629T220000
DTSTAMP:20260423T214910
CREATED:20260407T093517Z
LAST-MODIFIED:20260423T155435Z
UID:26405-1782759600-1782770400@france-ameriques.org
SUMMARY:Concert Trio : Ingmar Lazar\, piano\, Christoph Seybold\, violon\, et Johannes Raab\, violoncelle
DESCRIPTION:Ouverture des réservations mi-mai \nLe concert\, initié par Maître Emmanuel Nommick\, Vice-Président de France-Amériques\, Délégué à la Musique\, sera suivi d’un verre amical. \nInterprété par  : \nIngmar Lazar\, piano – biographie ICI \nChristoph Seybold\, violon – biographie ICI\nJohannes Raab\, violoncelle – biographie ICI \nProgramme \nSergueï Rachmaninoff (1873-1943)\nTrio élégiaque n°1 en sol mineur \nFranz Schubert (1797-1828)\nNotturno en Mi bémol majeur\, D. 897 \nJohannes Brahms  (1833-1897):\nTrio n°2 en ut majeur op. 87\nI. Allegro\nII. Andante con moto\nIII. Scherzo\nIV. Allegro giocoso \n  \nPlacement libre
URL:https://france-ameriques.org/event/concert-trio-piano-violon-violoncelle/
LOCATION:Cercle France-Amériques\, 9-11 Av. Franklin Delano Roosevelt\, Paris\, Ile de France\, 75008\, France
ATTACH;FMTTYPE=image/png:https://france-ameriques.org/wp-content/uploads/2022/05/Bandeau-page-evenement-2.png
END:VEVENT
END:VCALENDAR